BEGIN:VCALENDAR
VERSION:2.0
CALSCALE:GREGORIAN
PRODID:-//Diputació de Barcelona//DibaCMS//EN
BEGIN:VEVENT
UID:6512
DTSTAMP:20260420T024731
DTSTART:20210323T085500
DTEND:20210406T000000
SUMMARY:Vacances de Setmana Santa de la Biblio@teneu
LOCATION:
METHOD:PUBLISH
X-WR-CALNAME:ajuntament@santfost.cat
X-WR-TIMEZONE:Europe/Madrid
DESCRIPTION:La Biblioteca Biblio@teneu romandrà tancada del 29 de març al 5 d'abril, ambdós inclosos, amb motiu de les vacances de Setmana Santa. 

URI:https://www.santfost.cat/actualitat/agenda/vacances-de-setmana-santa-de-la-biblioateneu.html
CLASS:PUBLIC
END:VEVENT
END:VCALENDAR
