BEGIN:VCALENDAR
VERSION:2.0
CALSCALE:GREGORIAN
PRODID:-//Diputació de Barcelona//DibaCMS//EN
BEGIN:VEVENT
UID:6514
DTSTAMP:20260420T000608
DTSTART:20210305T183000
DTEND:20210305T200000
SUMMARY:Eduquem en família en el consum de drogues
LOCATION:
METHOD:PUBLISH
X-WR-CALNAME:ajuntament@santfost.cat
X-WR-TIMEZONE:Europe/Madrid
DESCRIPTION:Taller online per a famílies (a través de Zoom): 'Eduquem en família en el consum de drogues'.

A càrrec de Joan Barrero, tècnic del Programa Crític sobre prevenció en drogues i pantalles

Inscripcions: voluntariatsantfost@gmail.com 

URI:https://www.santfost.cat/actualitat/agenda/eduquem-en-familia-en-el-consum-de-drogues.html
CLASS:PUBLIC
END:VEVENT
END:VCALENDAR
