BEGIN:VCALENDAR
VERSION:2.0
CALSCALE:GREGORIAN
PRODID:-//Diputació de Barcelona//DibaCMS//EN
BEGIN:VEVENT
UID:6522
DTSTAMP:20260420T000554
DTSTART:20210306T090000
DTEND:20210306T130000
SUMMARY:Deixalleria mòbil a Sant Fost
LOCATION:Avinguda Mauri  
METHOD:PUBLISH
X-WR-CALNAME:ajuntament@santfost.cat
X-WR-TIMEZONE:Europe/Madrid
DESCRIPTION:
URI:https://www.santfost.cat/actualitat/agenda/6522-deixalleria-mobil-a-sant-fost.html
CLASS:PUBLIC
END:VEVENT
END:VCALENDAR
