BEGIN:VCALENDAR
VERSION:2.0
CALSCALE:GREGORIAN
PRODID:-//Diputació de Barcelona//DibaCMS//EN
BEGIN:VEVENT
UID:6627
DTSTAMP:20260420T013706
DTSTART:20210327T120000
DTEND:20210327T140000
SUMMARY:Acte d'homenatge a les víctimes de la Covid-19 a Sant Fost i de reconeixement al voluntariat
LOCATION:Parc de Can Corominas 
METHOD:PUBLISH
X-WR-CALNAME:ajuntament@santfost.cat
X-WR-TIMEZONE:Europe/Madrid
DESCRIPTION:El dissabte 27 de març l’Ajuntament organitzarà un acte de reconeixement a totes les persones voluntàries que ara fa un any es van bolcar en la lluita contra la pandèmia, i que també tindrà un moment de record per a totes les víctimes de la Covid-19 a Sant Fost. L'acte tindrà lloc al Parc de Can Coromines i comptarà amb totes les mesures sanitàries.

URI:https://www.santfost.cat/actualitat/agenda/6627-acte-dhomenatge-a-les-victimes-de-la-covid-19-a-sant-fost-i-de-reconeixement-al-voluntariat.html
CLASS:PUBLIC
END:VEVENT
END:VCALENDAR
