BEGIN:VCALENDAR
VERSION:2.0
CALSCALE:GREGORIAN
PRODID:-//Diputació de Barcelona//DibaCMS//EN
BEGIN:VEVENT
UID:6636
DTSTAMP:20260422T153940
DTSTART:20210423T000000
DTEND:20210425T000000
SUMMARY:'Benvinguts a Pineapple Store', d'Assaig, a L'Ateneu
LOCATION:
METHOD:PUBLISH
X-WR-CALNAME:ajuntament@santfost.cat
X-WR-TIMEZONE:Europe/Madrid
DESCRIPTION:Assaig estrena aquest mes d’abril ‘Benvinguts a Pineapple Store’. Es podrà veure a l’Ateneu el dia de Sant Jordi a les 19:30h, el dissabte 24 a les 19:30h i diumenge 25, aquesta vegada a les 18h. Les entrades valen 5 euros i es poden reservar a pineapple@assaig.cat. 

URI:https://www.santfost.cat/actualitat/agenda/benvinguts-a-pineapple-store-dassaig-a-lateneu.html
CLASS:PUBLIC
END:VEVENT
END:VCALENDAR
