BEGIN:VCALENDAR
VERSION:2.0
CALSCALE:GREGORIAN
PRODID:-//Diputació de Barcelona//DibaCMS//EN
BEGIN:VEVENT
UID:6637
DTSTAMP:20260420T012304
DTSTART:20210415T190000
DTEND:20210415T210000
SUMMARY:Presentació de la novel·la ‘Quan érem perverses’, de Mònica Esbert, a L’Ateneu 
LOCATION:
METHOD:PUBLISH
X-WR-CALNAME:ajuntament@santfost.cat
X-WR-TIMEZONE:Europe/Madrid
DESCRIPTION:El proper 15 d’abril, a les 19h, l’escriptora de Sant Fost Mònica Esbert presentarà la seva nova novel·la ‘Quan érem perverses’ a L’Ateneu Jaume Rifà.

URI:https://www.santfost.cat/actualitat/agenda/presentacio-de-la-novella-quan-erem-perverses-de-monica-esbert-a-lateneu-.html
CLASS:PUBLIC
END:VEVENT
END:VCALENDAR
