BEGIN:VCALENDAR
VERSION:2.0
CALSCALE:GREGORIAN
PRODID:-//Diputació de Barcelona//DibaCMS//EN
BEGIN:VEVENT
UID:6644
DTSTAMP:20260420T024808
DTSTART:20210429T170000
DTEND:20210429T200000
SUMMARY:Portes obertes Escola Bressol El Petit Roure - Visita guiada presencial
LOCATION:
METHOD:PUBLISH
X-WR-CALNAME:ajuntament@santfost.cat
X-WR-TIMEZONE:Europe/Madrid
DESCRIPTION:Aquest mes, l'escola bressol de Sant Fost El Petit Roure organitza jornades de portes obertes per conèixer el projecte del centre. 

El dijous 29 d'abril, a partir de les 17h, s'organitzaran visites guiades presencials. Cal demanar cita prèvia a santfost@cavallcartro.cat o trucant al 93.118.58.28.

URI:https://www.santfost.cat/actualitat/agenda/portes-obertes-escola-bressol-el-petit-roure-visita-guiada-presencial.html
CLASS:PUBLIC
END:VEVENT
END:VCALENDAR
