BEGIN:VCALENDAR
VERSION:2.0
CALSCALE:GREGORIAN
PRODID:-//Diputació de Barcelona//DibaCMS//EN
BEGIN:VEVENT
UID:6648
DTSTAMP:20260420T024443
DTSTART:20210419T180000
DTEND:20210419T200000
SUMMARY:L'hora del conte
LOCATION:
METHOD:PUBLISH
X-WR-CALNAME:ajuntament@santfost.cat
X-WR-TIMEZONE:Europe/Madrid
DESCRIPTION:L'hora del conte: 'Princeses, dracs, cargols i altres animalons'. Per a infants majors de 4 anys. Aforament limitat, inscripcions a la biblioteca. 

URI:https://www.santfost.cat/actualitat/agenda/lhora-del-conte.html
CLASS:PUBLIC
END:VEVENT
END:VCALENDAR
