BEGIN:VCALENDAR
VERSION:2.0
CALSCALE:GREGORIAN
PRODID:-//Diputació de Barcelona//DibaCMS//EN
BEGIN:VEVENT
UID:6649
DTSTAMP:20260420T024312
DTSTART:20210420T183000
DTEND:20210420T200000
SUMMARY:Contes per a adults
LOCATION:
METHOD:PUBLISH
X-WR-CALNAME:ajuntament@santfost.cat
X-WR-TIMEZONE:Europe/Madrid
DESCRIPTION:Contes per a adults. Aforament limitat, inscripcions a la biblioteca. 

URI:https://www.santfost.cat/actualitat/agenda/contes-per-a-adults.html
CLASS:PUBLIC
END:VEVENT
END:VCALENDAR
