BEGIN:VCALENDAR
VERSION:2.0
CALSCALE:GREGORIAN
PRODID:-//Diputació de Barcelona//DibaCMS//EN
BEGIN:VEVENT
UID:6650
DTSTAMP:20260420T024630
DTSTART:20210408T183000
DTEND:20210408T200000
SUMMARY:Club de lectura
LOCATION:
METHOD:PUBLISH
X-WR-CALNAME:ajuntament@santfost.cat
X-WR-TIMEZONE:Europe/Madrid
DESCRIPTION:'Los asquerosos', de Santiago Lorenzo. Aforament limitat, inscripcions a la biblioteca. 

URI:https://www.santfost.cat/actualitat/agenda/6650-club-de-lectura.html
CLASS:PUBLIC
END:VEVENT
END:VCALENDAR
