BEGIN:VCALENDAR
VERSION:2.0
CALSCALE:GREGORIAN
PRODID:-//Diputació de Barcelona//DibaCMS//EN
BEGIN:VEVENT
UID:6653
DTSTAMP:20260420T151455
DTSTART:20210414T190000
DTEND:20210414T200000
SUMMARY:Acte institucional de commemoració del 90è aniversari de la Segona República
LOCATION:
METHOD:PUBLISH
X-WR-CALNAME:ajuntament@santfost.cat
X-WR-TIMEZONE:Europe/Madrid
DESCRIPTION:El proper dimecres 14 d'abril, a les 19h, tindrà lloc un acte institucional de commemoració del 90è aniversari de la proclamació de la 2a República. L'acte està dirigit a entitats i partits polítics, i servirà per inaugurar la plaça de la República de Sant Fost. L'aforament és limitat i cal confirmar assistència a ajuntament@santfost.cat. 

URI:https://www.santfost.cat/actualitat/agenda/acte-institucional-de-commemoracio-del-90e-aniversari-de-la-segona-republica.html
CLASS:PUBLIC
END:VEVENT
END:VCALENDAR
