BEGIN:VCALENDAR
VERSION:2.0
CALSCALE:GREGORIAN
PRODID:-//Diputació de Barcelona//DibaCMS//EN
BEGIN:VEVENT
UID:6662
DTSTAMP:20260419T211007
DTSTART:20210529T090000
DTEND:20210529T130000
SUMMARY:Deixalleria mòbil a Sant Fost
LOCATION:
METHOD:PUBLISH
X-WR-CALNAME:ajuntament@santfost.cat
X-WR-TIMEZONE:Europe/Madrid
DESCRIPTION:El proper dissabte 29 de maig, la deixalleria mòbil tornarà a instal·lar-se a Sant Fost. Com és habitual, serà a l'avinguda Mauri de 9h a 13h. 

URI:https://www.santfost.cat/actualitat/agenda/6662-deixalleria-mobil-a-sant-fost.html
CLASS:PUBLIC
END:VEVENT
END:VCALENDAR
