BEGIN:VCALENDAR
VERSION:2.0
CALSCALE:GREGORIAN
PRODID:-//Diputació de Barcelona//DibaCMS//EN
BEGIN:VEVENT
UID:6665
DTSTAMP:20260420T144945
DTSTART:20210428T170000
DTEND:20210428T210000
SUMMARY:Jornada de donació de sang
LOCATION:
METHOD:PUBLISH
X-WR-CALNAME:ajuntament@santfost.cat
X-WR-TIMEZONE:Europe/Madrid
DESCRIPTION:Dimecres 28 d'abril, la sala d’exposicions de L’Ateneu acollirà una nova jornada de donació de sang. Serà de 17h a 21h i per assistir-hi cal demanar cita prèvia a donarsang.gencat.cat

URI:https://www.santfost.cat/actualitat/agenda/jornada-de-donacio-de-sang.html
CLASS:PUBLIC
END:VEVENT
END:VCALENDAR
