BEGIN:VCALENDAR
VERSION:2.0
CALSCALE:GREGORIAN
PRODID:-//Diputació de Barcelona//DibaCMS//EN
BEGIN:VEVENT
UID:6710
DTSTAMP:20260420T024403
DTSTART:20210524T000000
DTEND:20210524T225900
SUMMARY:Festa local
LOCATION:
METHOD:PUBLISH
X-WR-CALNAME:ajuntament@santfost.cat
X-WR-TIMEZONE:Europe/Madrid
DESCRIPTION:Els establiments i equipaments municipals romandran tancats.

URI:https://www.santfost.cat/actualitat/agenda/6710-festa-local.html
CLASS:PUBLIC
END:VEVENT
END:VCALENDAR
