BEGIN:VCALENDAR
VERSION:2.0
CALSCALE:GREGORIAN
PRODID:-//Diputació de Barcelona//DibaCMS//EN
BEGIN:VEVENT
UID:6744
DTSTAMP:20260419T222506
DTSTART:20210607T000000
DTEND:20210607T000000
SUMMARY:Netegem el bosc, netegem el planeta!
LOCATION:
METHOD:PUBLISH
X-WR-CALNAME:ajuntament@santfost.cat
X-WR-TIMEZONE:Europe/Madrid
DESCRIPTION:Diumenge 13 de juny, l'Associació ecologista La Xopera, organitza una trobada per fer neteja dels boscos.

URI:https://www.santfost.cat/actualitat/agenda/6744-netegem-el-bosc-netegem-el-planeta.html
CLASS:PUBLIC
END:VEVENT
END:VCALENDAR
