BEGIN:VCALENDAR
VERSION:2.0
CALSCALE:GREGORIAN
PRODID:-//Diputació de Barcelona//DibaCMS//EN
BEGIN:VEVENT
UID:6783
DTSTAMP:20260419T223249
DTSTART:20210713T180000
DTEND:20210713T200000
SUMMARY:Manualitats infantils a la Biblioteca
LOCATION:
METHOD:PUBLISH
X-WR-CALNAME:ajuntament@santfost.cat
X-WR-TIMEZONE:Europe/Madrid
DESCRIPTION:Dimarts 13 de juliol

Hora: 18.00 h

Manualitats infantils

Adreçat a infants a partir de 4 anys acompanyats d’un adult. Places limitades. Inscripció prèvia a la biblioteca.

URI:https://www.santfost.cat/actualitat/agenda/manualitats-infantils-a-la-biblioteca.html
CLASS:PUBLIC
END:VEVENT
END:VCALENDAR
