BEGIN:VCALENDAR
VERSION:2.0
CALSCALE:GREGORIAN
PRODID:-//Diputació de Barcelona//DibaCMS//EN
BEGIN:VEVENT
UID:6785
DTSTAMP:20260419T195244
DTSTART:20210723T180000
DTEND:20210723T200000
SUMMARY:Hora del conte: Per Festa Major
LOCATION:
METHOD:PUBLISH
X-WR-CALNAME:ajuntament@santfost.cat
X-WR-TIMEZONE:Europe/Madrid
DESCRIPTION:Divendres, 23 de juliol

Hora: 18.00 h

Hora del conte: Per Festa Major

A càrrec de la Cia. Patawa

Adreçat a infants a partir de 3 anys acompanyats d’un adult. Places limitades. Inscripció prèvia a la biblioteca.

URI:https://www.santfost.cat/actualitat/agenda/hora-del-conte-per-festa-major.html
CLASS:PUBLIC
END:VEVENT
END:VCALENDAR
