BEGIN:VCALENDAR
VERSION:2.0
CALSCALE:GREGORIAN
PRODID:-//Diputació de Barcelona//DibaCMS//EN
BEGIN:VEVENT
UID:6853
DTSTAMP:20260419T183209
DTSTART:20210921T000000
DTEND:20210921T000000
SUMMARY:Expedició de DNI a l'Ajuntament de Sant Fost Setembre
LOCATION:
METHOD:PUBLISH
X-WR-CALNAME:ajuntament@santfost.cat
X-WR-TIMEZONE:Europe/Madrid
DESCRIPTION:Les properes dates per renovar el DNI a l'Ajuntament de Sant Fost seran:

· 21 de setembre per fer-lo i 28 de setembre per recollir-lo. COMPLERT

URI:https://www.santfost.cat/actualitat/agenda/expedicio-de-dni-a-lajuntament-de-sant-fost-setembre.html
CLASS:PUBLIC
END:VEVENT
END:VCALENDAR
