BEGIN:VCALENDAR
VERSION:2.0
CALSCALE:GREGORIAN
PRODID:-//Diputació de Barcelona//DibaCMS//EN
BEGIN:VEVENT
UID:6854
DTSTAMP:20260419T184124
DTSTART:20211102T000000
DTEND:20211102T000000
SUMMARY:Expedició de DNI a l'Ajuntament de Sant Fost Novembre
LOCATION:
METHOD:PUBLISH
X-WR-CALNAME:ajuntament@santfost.cat
X-WR-TIMEZONE:Europe/Madrid
DESCRIPTION:Les properes dates per renovar el DNI a l'Ajuntament de Sant Fost seran:

2 de novembre per fer-lo

9 de novembre per recollir-lo.

URI:https://www.santfost.cat/actualitat/agenda/expedicio-de-dni-a-lajuntament-de-sant-fost-novembre.html
CLASS:PUBLIC
END:VEVENT
END:VCALENDAR
