BEGIN:VCALENDAR
VERSION:2.0
CALSCALE:GREGORIAN
PRODID:-//Diputació de Barcelona//DibaCMS//EN
BEGIN:VEVENT
UID:6867
DTSTAMP:20260419T141926
DTSTART:20210722T220000
DTEND:20210722T000000
SUMMARY:Pregó de la Festa Major · Festa Major 2021 #FMSantFost21
LOCATION:Av. Mauri s/n 08105 Sant Fost de Campsentelles
METHOD:PUBLISH
X-WR-CALNAME:ajuntament@santfost.cat
X-WR-TIMEZONE:Europe/Madrid
DESCRIPTION:A càrrec del Teatre s.XX amb motiu del 50è Aniversari de l'entitat.

URI:https://www.santfost.cat/actualitat/agenda/prego-de-la-festa-major--festa-major-2021-fmsantfost21.html
CLASS:PUBLIC
END:VEVENT
END:VCALENDAR
