BEGIN:VCALENDAR
VERSION:2.0
CALSCALE:GREGORIAN
PRODID:-//Diputació de Barcelona//DibaCMS//EN
BEGIN:VEVENT
UID:6870
DTSTAMP:20260419T200351
DTSTART:20210723T190000
DTEND:20210723T000000
SUMMARY:Cantada d'Havaneres · Festa Major 2021 #FMSantFost21
LOCATION:Plaça Esbert 
METHOD:PUBLISH
X-WR-CALNAME:ajuntament@santfost.cat
X-WR-TIMEZONE:Europe/Madrid
DESCRIPTION:A càrrec d'Els Pescadors de l'Escala.

Cal reserva d'entrades a www.entrapolis.com

URI:https://www.santfost.cat/actualitat/agenda/cantada-dhavaneres--festa-major-2021-fmsantfost21.html
CLASS:PUBLIC
END:VEVENT
END:VCALENDAR
