BEGIN:VCALENDAR
VERSION:2.0
CALSCALE:GREGORIAN
PRODID:-//Diputació de Barcelona//DibaCMS//EN
BEGIN:VEVENT
UID:6872
DTSTAMP:20260419T195151
DTSTART:20210724T100000
DTEND:20210724T000000
SUMMARY:Gaming day · Festa Major 2021 #FMSantFost21
LOCATION:Plaça de la Vila, s/n  08105 Sant Fost de Campsentelles
METHOD:PUBLISH
X-WR-CALNAME:ajuntament@santfost.cat
X-WR-TIMEZONE:Europe/Madrid
DESCRIPTION:A càrrec d'EMONKEYZ.

Streams, formacions League of Legends, Brawl, sortejos i molt més...

Aforament limitat. Cal reserva d'entrades a www.entrapolis.com

URI:https://www.santfost.cat/actualitat/agenda/gaming-day--festa-major-2021-fmsantfost21.html
CLASS:PUBLIC
END:VEVENT
END:VCALENDAR
