BEGIN:VCALENDAR
VERSION:2.0
CALSCALE:GREGORIAN
PRODID:-//Diputació de Barcelona//DibaCMS//EN
BEGIN:VEVENT
UID:6882
DTSTAMP:20260419T200435
DTSTART:20210725T183000
DTEND:20210725T000000
SUMMARY:Espectacle infantil · Reggae per xics · Festa Major 2021 #FMSantFost21
LOCATION:Av. Mauri s/n 08105 Sant Fost de Campsentelles
METHOD:PUBLISH
X-WR-CALNAME:ajuntament@santfost.cat
X-WR-TIMEZONE:Europe/Madrid
DESCRIPTION:A càrrec del grup Reggae per xics!

L'aforament és limitat. Cal reserva d'entrades a www.entrapolis.com

URI:https://www.santfost.cat/actualitat/agenda/espectacle-infantil--reggae-per-xics--festa-major-2021-fmsantfost21.html
CLASS:PUBLIC
END:VEVENT
END:VCALENDAR
