BEGIN:VCALENDAR
VERSION:2.0
CALSCALE:GREGORIAN
PRODID:-//Diputació de Barcelona//DibaCMS//EN
BEGIN:VEVENT
UID:6884
DTSTAMP:20260419T183019
DTSTART:20210726T103000
DTEND:20210725T000000
SUMMARY:Matí familiar a Can Lladó · Festa Major 2021 #FMSantFost21
LOCATION:Av. Mauri s/n 08105 Sant Fost de Campsentelles
METHOD:PUBLISH
X-WR-CALNAME:ajuntament@santfost.cat
X-WR-TIMEZONE:Europe/Madrid
DESCRIPTION:Entrada gratuïta a la piscina exterior fins les 13.30h

L'aforament és limitat. Cal reserva d'entrades a www.entrapolis.com

URI:https://www.santfost.cat/actualitat/agenda/mati-familiar-a-can-llado--festa-major-2021-fmsantfost21.html
CLASS:PUBLIC
END:VEVENT
END:VCALENDAR
