BEGIN:VCALENDAR
VERSION:2.0
CALSCALE:GREGORIAN
PRODID:-//Diputació de Barcelona//DibaCMS//EN
BEGIN:VEVENT
UID:6947
DTSTAMP:20260419T211450
DTSTART:20210928T170000
DTEND:20210928T000000
SUMMARY:Hora del conte: Jully Papallona
LOCATION: Edifici L'Ateneu  Plaça de la Vila, s/n 08105 Sant Fost de Campsentelles
METHOD:PUBLISH
X-WR-CALNAME:ajuntament@santfost.cat
X-WR-TIMEZONE:Europe/Madrid
DESCRIPTION:Un conte inspirador, basat en fets reals, que posa de relleu l'esperit aventurer, l'amor i el respecte pels arbres centenaris i ancestrals.

Dimarts, 28 de setembre a les 17.00h.

Adreçat a infants a partir de 3 anys. 

Aforament limitat.

Inscripcions a la biblioteca.

URI:https://www.santfost.cat/actualitat/agenda/6947-hora-del-conte-jully-papallona.html
CLASS:PUBLIC
END:VEVENT
END:VCALENDAR
