BEGIN:VCALENDAR
VERSION:2.0
CALSCALE:GREGORIAN
PRODID:-//Diputació de Barcelona//DibaCMS//EN
BEGIN:VEVENT
UID:7000
DTSTAMP:20260419T200310
DTSTART:20211010T000000
DTEND:20211010T000000
SUMMARY:42 Mostra de Teatre a Sant Fost · El cicle de la vida
LOCATION:
METHOD:PUBLISH
X-WR-CALNAME:ajuntament@santfost.cat
X-WR-TIMEZONE:Europe/Madrid
DESCRIPTION:Es farà el mes d'octubre, amb totes les mesures de seguretat. Aforament de la sala serà del 70%

Preu de l'entrada 5€, Jubilats i Carnet Jove 4€
Dissabte actuacions a les 9 de la tarda · Diumenge actuacions a les 6 de la tarda

Lloc. L'Ateneu Sant Fost (Plaça de la Vila)

Entrades
Una hora abans de l'espectacle i també es poder reservar al correu grupteatreseglexx@gmail.com

URI:https://www.santfost.cat/actualitat/agenda/42-mostra-de-teatre-a-sant-fost--el-cicle-de-la-vida.html
CLASS:PUBLIC
END:VEVENT
END:VCALENDAR
