BEGIN:VCALENDAR
VERSION:2.0
CALSCALE:GREGORIAN
PRODID:-//Diputació de Barcelona//DibaCMS//EN
BEGIN:VEVENT
UID:7015
DTSTAMP:20260419T181820
DTSTART:20211018T170000
DTEND:20211018T000000
SUMMARY:Contes per nadons
LOCATION:
METHOD:PUBLISH
X-WR-CALNAME:ajuntament@santfost.cat
X-WR-TIMEZONE:Europe/Madrid
DESCRIPTION:Atenció, fes-ho tu! So fort, so fluix

URI:https://www.santfost.cat/actualitat/agenda/7015-contes-per-nadons.html
CLASS:PUBLIC
END:VEVENT
END:VCALENDAR
