BEGIN:VCALENDAR
VERSION:2.0
CALSCALE:GREGORIAN
PRODID:-//Diputació de Barcelona//DibaCMS//EN
BEGIN:VEVENT
UID:7073
DTSTAMP:20260419T183226
DTSTART:20211115T170000
DTEND:20211115T000000
SUMMARY:Contes per nadons · Farcell de contes
LOCATION:
METHOD:PUBLISH
X-WR-CALNAME:ajuntament@santfost.cat
X-WR-TIMEZONE:Europe/Madrid
DESCRIPTION:Adreçat a infants entre 1 i 3 anys. Aforament limitat. Inscripcions a la Biblioteca

Dilluns 15 de novembre a les 17.00 h a la Biblioteca Biblio@teneu.

URI:https://www.santfost.cat/actualitat/agenda/contes-per-nadons--farcell-de-contes.html
CLASS:PUBLIC
END:VEVENT
END:VCALENDAR
