BEGIN:VCALENDAR
VERSION:2.0
CALSCALE:GREGORIAN
PRODID:-//Diputació de Barcelona//DibaCMS//EN
BEGIN:VEVENT
UID:7085
DTSTAMP:20260419T184324
DTSTART:20211106T200000
DTEND:20211106T000000
SUMMARY:Presentació llibre 50è aniversari del Grup de Teatre Segle XX
LOCATION:
METHOD:PUBLISH
X-WR-CALNAME:ajuntament@santfost.cat
X-WR-TIMEZONE:Europe/Madrid
DESCRIPTION:Aquesta presentació serà el proper dissabte 6 de novembre a les 20h a l'Ateneu de Sant Fost.

URI:https://www.santfost.cat/actualitat/agenda/presentacio-llibre-50e-aniversari-del-grup-de-teatre-segle-xx.html
CLASS:PUBLIC
END:VEVENT
END:VCALENDAR
