BEGIN:VCALENDAR
VERSION:2.0
CALSCALE:GREGORIAN
PRODID:-//Diputació de Barcelona//DibaCMS//EN
BEGIN:VEVENT
UID:7086
DTSTAMP:20260419T184335
DTSTART:20211106T080000
DTEND:20211106T210000
SUMMARY:Campionat de Barcelona de patinatge
LOCATION:
METHOD:PUBLISH
X-WR-CALNAME:ajuntament@santfost.cat
X-WR-TIMEZONE:Europe/Madrid
DESCRIPTION:El pròxim dia 6 de novembre se celebrarà el Campionat de Barcelona de Patinatge categoria Infantil B i C en el Pavelló 2 de #SantFost.  

Horari: 8.00 h a 21.00 h 

Des de l’Ajuntament volem transmetre l’orgull que ens dona poder col·laborar en actes esportius d’aquesta índole.  

Visca l’esport a Sant Fost!

URI:https://www.santfost.cat/actualitat/agenda/campionat-de-barcelona-de-patinatge.html
CLASS:PUBLIC
END:VEVENT
END:VCALENDAR
