BEGIN:VCALENDAR
VERSION:2.0
CALSCALE:GREGORIAN
PRODID:-//Diputació de Barcelona//DibaCMS//EN
BEGIN:VEVENT
UID:7124
DTSTAMP:20260419T171536
DTSTART:20211125T173000
DTEND:20211125T180000
SUMMARY:Lectura Manifest 25N 
LOCATION:
METHOD:PUBLISH
X-WR-CALNAME:ajuntament@santfost.cat
X-WR-TIMEZONE:Europe/Madrid
DESCRIPTION:Record de les dones assessinades durant el 2021. 

URI:https://www.santfost.cat/actualitat/agenda/lectura-manifest-25n-.html
CLASS:PUBLIC
END:VEVENT
END:VCALENDAR
