BEGIN:VCALENDAR
VERSION:2.0
CALSCALE:GREGORIAN
PRODID:-//Diputació de Barcelona//DibaCMS//EN
BEGIN:VEVENT
UID:7126
DTSTAMP:20260419T182422
DTSTART:20211125T180000
DTEND:20211125T183000
SUMMARY:Teatre col·loqui "DONA SOLA"
LOCATION:
METHOD:PUBLISH
X-WR-CALNAME:ajuntament@santfost.cat
X-WR-TIMEZONE:Europe/Madrid
DESCRIPTION:A càrrec de l'Associació Cultural Actura

URI:https://www.santfost.cat/actualitat/agenda/teatre-colloqui-dona-sola.html
CLASS:PUBLIC
END:VEVENT
END:VCALENDAR
