BEGIN:VCALENDAR
VERSION:2.0
CALSCALE:GREGORIAN
PRODID:-//Diputació de Barcelona//DibaCMS//EN
BEGIN:VEVENT
UID:7150
DTSTAMP:20260419T155844
DTSTART:20211219T190000
DTEND:20211219T200000
SUMMARY:Els Pastorets de J. Folch i Tores
LOCATION:
METHOD:PUBLISH
X-WR-CALNAME:ajuntament@santfost.cat
X-WR-TIMEZONE:Europe/Madrid
DESCRIPTION:A càrrec de: Teatre s.XX
Hora: A les 19 h
Lloc: Auditori l’Ateneu

URI:https://www.santfost.cat/actualitat/agenda/els-pastorets-de-j-folch-i-tores.html
CLASS:PUBLIC
END:VEVENT
END:VCALENDAR
