BEGIN:VCALENDAR
VERSION:2.0
CALSCALE:GREGORIAN
PRODID:-//Diputació de Barcelona//DibaCMS//EN
BEGIN:VEVENT
UID:7157
DTSTAMP:20260419T183051
DTSTART:20220106T183000
DTEND:20220106T193000
SUMMARY:Pessebre Vivent de Sant Fost
LOCATION:
METHOD:PUBLISH
X-WR-CALNAME:ajuntament@santfost.cat
X-WR-TIMEZONE:Europe/Madrid
DESCRIPTION:A càrrec de: Associació Pessebre Vivent de Sant Fost amb la col·laboració de l’Ajuntament
Hora: A les 18.30 h
Lloc: Turó de Can Teyà, Sant Fost

URI:https://www.santfost.cat/actualitat/agenda/7157-pessebre-vivent-de-sant-fost.html
CLASS:PUBLIC
END:VEVENT
END:VCALENDAR
