BEGIN:VCALENDAR
VERSION:2.0
CALSCALE:GREGORIAN
PRODID:-//Diputació de Barcelona//DibaCMS//EN
BEGIN:VEVENT
UID:7195
DTSTAMP:20260419T155213
DTSTART:20211219T103000
DTEND:20211219T113000
SUMMARY:Presentació UE Sant Fost Bàsquet 
LOCATION:
METHOD:PUBLISH
X-WR-CALNAME:ajuntament@santfost.cat
X-WR-TIMEZONE:Europe/Madrid
DESCRIPTION:Hora: 10.30 h 

Lloc: Pavelló 2 

 

URI:https://www.santfost.cat/actualitat/agenda/presentacio-ue-sant-fost-basquet-.html
CLASS:PUBLIC
END:VEVENT
END:VCALENDAR
