BEGIN:VCALENDAR
VERSION:2.0
CALSCALE:GREGORIAN
PRODID:-//Diputació de Barcelona//DibaCMS//EN
BEGIN:VEVENT
UID:7226
DTSTAMP:20260419T171047
DTSTART:20220121T170000
DTEND:20220121T180000
SUMMARY:Hora del conte: La revolta climàtica dels contes
LOCATION:
METHOD:PUBLISH
X-WR-CALNAME:ajuntament@santfost.cat
X-WR-TIMEZONE:Europe/Madrid
DESCRIPTION:Què passaria si els personatges de conte reclamessin viure en un planeta més net i sostenible?

URI:https://www.santfost.cat/actualitat/agenda/hora-del-conte-la-revolta-climatica-dels-contes.html
CLASS:PUBLIC
END:VEVENT
END:VCALENDAR
