BEGIN:VCALENDAR
VERSION:2.0
CALSCALE:GREGORIAN
PRODID:-//Diputació de Barcelona//DibaCMS//EN
BEGIN:VEVENT
UID:7227
DTSTAMP:20260419T202555
DTSTART:20220127T183000
DTEND:20220127T193000
SUMMARY:Club de lectura: Inés y la alegría, de Almudena Grandes
LOCATION:
METHOD:PUBLISH
X-WR-CALNAME:ajuntament@santfost.cat
X-WR-TIMEZONE:Europe/Madrid
DESCRIPTION:Tolosa, estiu del 1939.

URI:https://www.santfost.cat/actualitat/agenda/club-de-lectura-ines-y-la-alegria-de-almudena-grandes.html
CLASS:PUBLIC
END:VEVENT
END:VCALENDAR
