BEGIN:VCALENDAR
VERSION:2.0
CALSCALE:GREGORIAN
PRODID:-//Diputació de Barcelona//DibaCMS//EN
BEGIN:VEVENT
UID:7228
DTSTAMP:20260419T182521
DTSTART:20220128T170000
DTEND:20220128T180000
SUMMARY:Contes en anglès: Under the sea
LOCATION:
METHOD:PUBLISH
X-WR-CALNAME:ajuntament@santfost.cat
X-WR-TIMEZONE:Europe/Madrid
DESCRIPTION:La Jane, és una nena a qui li encanta bussejar al mar, un dia troba una moneda d'or procedent d'un vaixell pirata i decideix aventurar-se a buscar la resta del tresor...

URI:https://www.santfost.cat/actualitat/agenda/contes-en-angles-under-the-sea.html
CLASS:PUBLIC
END:VEVENT
END:VCALENDAR
