BEGIN:VCALENDAR
VERSION:2.0
CALSCALE:GREGORIAN
PRODID:-//Diputació de Barcelona//DibaCMS//EN
BEGIN:VEVENT
UID:7278
DTSTAMP:20260419T142137
DTSTART:20220321T170000
DTEND:20220321T180000
SUMMARY:Contes per nadons: Caminets
LOCATION:
METHOD:PUBLISH
X-WR-CALNAME:ajuntament@santfost.cat
X-WR-TIMEZONE:Europe/Madrid
DESCRIPTION:En Serafí és un ratolí que viu a la natura. És molt dormilega i li agrada somniar. Somnia que vola en avió, navega en vaixell i que travessa les muntanyes en un tren. Quan es desperta, se’n adona que no té res de tot això, però si que té uns peuets per caminar xino-xano. Adreçat a infants entre 1 i 3 anys. Places limitades. Inscripció prèvia a la biblioteca. A càrrec de Fes-t’ho com vulguis

URI:https://www.santfost.cat/actualitat/agenda/contes-per-nadons-caminets.html
CLASS:PUBLIC
END:VEVENT
END:VCALENDAR
