BEGIN:VCALENDAR
VERSION:2.0
CALSCALE:GREGORIAN
PRODID:-//Diputació de Barcelona//DibaCMS//EN
BEGIN:VEVENT
UID:7279
DTSTAMP:20260419T141746
DTSTART:20220325T170000
DTEND:20220325T180000
SUMMARY:Contes en anglès: Around the World
LOCATION:
METHOD:PUBLISH
X-WR-CALNAME:ajuntament@santfost.cat
X-WR-TIMEZONE:Europe/Madrid
DESCRIPTION:Què regalaries a la Reina d’Anglaterra si et convidés al seu aniversari? La nostra protagonista decideix viatjar per tot el món per trobar el millor regal! Vine a ajudar-la! Adreçat a infants majors de 3 anys. Places limitades. Inscripció prèvia a la biblioteca. A càrrec de la Kids & Us

URI:https://www.santfost.cat/actualitat/agenda/contes-en-angles-around-the-world.html
CLASS:PUBLIC
END:VEVENT
END:VCALENDAR
