BEGIN:VCALENDAR
VERSION:2.0
CALSCALE:GREGORIAN
PRODID:-//Diputació de Barcelona//DibaCMS//EN
BEGIN:VEVENT
UID:7287
DTSTAMP:20260419T164914
DTSTART:20220218T200000
DTEND:20220218T213000
SUMMARY:Activitat "Vine a cantar"
LOCATION:
METHOD:PUBLISH
X-WR-CALNAME:ajuntament@santfost.cat
X-WR-TIMEZONE:Europe/Madrid
DESCRIPTION:Nova activitat de karaoke "Vine a cantar" del projecte "No t'aturis" per a la gent gran.

Aquesta activitat tindrà lloc el pròxim dia 18 de febrer de 20 h a 21.30 h a l'Auditori de l'Ateneu.

Per a més informació i inscripció truca al 617 37 48 49 en els següents horaris:

Matins de 8.00 h a 14.30 h de dilluns a divendres

Dimarts de 8.00 h a 14.30 h i de 15.30 h a 18.30 h

Places limitades

URI:https://www.santfost.cat/actualitat/agenda/activitat-vine-a-cantar.html
CLASS:PUBLIC
END:VEVENT
END:VCALENDAR
