BEGIN:VCALENDAR
VERSION:2.0
CALSCALE:GREGORIAN
PRODID:-//Diputació de Barcelona//DibaCMS//EN
BEGIN:VEVENT
UID:7334
DTSTAMP:20260419T181530
DTSTART:20220426T170000
DTEND:20220426T180000
SUMMARY:Contes per nadons: L’hora del bany
LOCATION:
METHOD:PUBLISH
X-WR-CALNAME:ajuntament@santfost.cat
X-WR-TIMEZONE:Europe/Madrid
DESCRIPTION:Què divertit és banyar-se si ho convertim en un joc! Xip xap xip xap, em rento les manetes; Xip xap xip xap, em rento tot el cos.

URI:https://www.santfost.cat/actualitat/agenda/contes-per-nadons-lhora-del-bany.html
CLASS:PUBLIC
END:VEVENT
END:VCALENDAR
