BEGIN:VCALENDAR
VERSION:2.0
CALSCALE:GREGORIAN
PRODID:-//Diputació de Barcelona//DibaCMS//EN
BEGIN:VEVENT
UID:7392
DTSTAMP:20260423T101336
DTSTART:20220501T100000
DTEND:20220501T150000
SUMMARY:La FostAnimal
LOCATION:
METHOD:PUBLISH
X-WR-CALNAME:ajuntament@santfost.cat
X-WR-TIMEZONE:Europe/Madrid
DESCRIPTION:La Fira animalista FostAnimal

Hora: de 10 h a 15 h

Lloc: Plaça de la Vila

 

URI:https://www.santfost.cat/actualitat/agenda/la-fostanimal.html
CLASS:PUBLIC
END:VEVENT
END:VCALENDAR
